Package: clusterProfiler Version: 4.14.6 Command: F:\biocbuild\bbs-3.20-bioc\R\bin\R.exe CMD INSTALL clusterProfiler StartedAt: 2025-03-31 16:35:52 -0400 (Mon, 31 Mar 2025) EndedAt: 2025-03-31 16:39:23 -0400 (Mon, 31 Mar 2025) EllapsedTime: 210.8 seconds RetCode: 0 Status: OK