Package: clusterProfiler Version: 4.14.6 Command: F:\biocbuild\bbs-3.20-bioc\R\bin\R.exe CMD check --no-multiarch --install=check:clusterProfiler.install-out.txt --library=F:\biocbuild\bbs-3.20-bioc\R\library --no-vignettes --timings clusterProfiler_4.14.6.tar.gz StartedAt: 2025-04-01 00:09:08 -0400 (Tue, 01 Apr 2025) EndedAt: 2025-04-01 00:13:22 -0400 (Tue, 01 Apr 2025) EllapsedTime: 253.8 seconds RetCode: 0 Status: OK CheckDir: clusterProfiler.Rcheck Warnings: 0