Package: clusterProfiler Version: 4.14.6 Command: chmod a+r clusterProfiler -R && F:\biocbuild\bbs-3.20-bioc\R\bin\R.exe CMD build --keep-empty-dirs --no-resave-data clusterProfiler StartedAt: 2025-03-31 18:03:15 -0400 (Mon, 31 Mar 2025) EndedAt: 2025-03-31 18:04:32 -0400 (Mon, 31 Mar 2025) EllapsedTime: 76.2 seconds RetCode: 0 Status: OK PackageFile: clusterProfiler_4.14.6.tar.gz PackageFileSize: 610.8 KiB