Package: clusterProfiler Version: 4.14.6 Command: rm -rf clusterProfiler.buildbin-libdir && mkdir clusterProfiler.buildbin-libdir && F:\biocbuild\bbs-3.20-bioc\R\bin\R.exe CMD INSTALL --build --library=clusterProfiler.buildbin-libdir clusterProfiler_4.14.6.tar.gz StartedAt: 2025-04-01 07:55:40 -0400 (Tue, 01 Apr 2025) EndedAt: 2025-04-01 07:57:44 -0400 (Tue, 01 Apr 2025) EllapsedTime: 123.9 seconds RetCode: 0 Status: OK PackageFile: clusterProfiler_4.14.6.zip PackageFileSize: 1.015 MiB