Package: clusterExperiment Version: 2.26.0 Command: /Library/Frameworks/R.framework/Resources/bin/R CMD build --keep-empty-dirs --no-resave-data clusterExperiment StartedAt: 2025-03-31 17:45:24 -0400 (Mon, 31 Mar 2025) EndedAt: 2025-03-31 17:57:41 -0400 (Mon, 31 Mar 2025) EllapsedTime: 737.1 seconds RetCode: 0 Status: OK PackageFile: clusterExperiment_2.26.0.tar.gz PackageFileSize: 12.07 MiB