Package: clusterExperiment Version: 2.26.0 Command: /Library/Frameworks/R.framework/Resources/bin/R CMD INSTALL clusterExperiment StartedAt: 2025-03-31 17:49:04 -0400 (Mon, 31 Mar 2025) EndedAt: 2025-03-31 17:50:26 -0400 (Mon, 31 Mar 2025) EllapsedTime: 82.5 seconds RetCode: 0 Status: OK