Package: clusterExperiment Version: 2.26.0 Command: rm -rf clusterExperiment.buildbin-libdir && mkdir clusterExperiment.buildbin-libdir && /Users/biocbuild/BBS/utils/build-universal.sh clusterExperiment_2.26.0.tar.gz /Library/Frameworks/R.framework/Resources/bin/R clusterExperiment.buildbin-libdir StartedAt: 2025-04-02 13:46:05 -0400 (Wed, 02 Apr 2025) EndedAt: 2025-04-02 13:47:22 -0400 (Wed, 02 Apr 2025) EllapsedTime: 76.8 seconds RetCode: 0 Status: OK PackageFile: clusterExperiment_2.26.0.tgz PackageFileSize: 13.06 MiB