Package: cliProfiler Version: 1.12.0 Command: /home/biocbuild/R/R/bin/R CMD INSTALL cliProfiler StartedAt: 2025-03-31 20:32:36 -0000 (Mon, 31 Mar 2025) EndedAt: 2025-03-31 20:33:19 -0000 (Mon, 31 Mar 2025) EllapsedTime: 43.1 seconds RetCode: 0 Status: OK