Package: cliProfiler Version: 1.12.0 Command: /home/biocbuild/R/R/bin/R CMD build --keep-empty-dirs --no-resave-data cliProfiler StartedAt: 2025-03-31 22:33:52 -0000 (Mon, 31 Mar 2025) EndedAt: 2025-03-31 22:35:29 -0000 (Mon, 31 Mar 2025) EllapsedTime: 97.0 seconds RetCode: 0 Status: OK PackageFile: cliProfiler_1.12.0.tar.gz PackageFileSize: 840.5 KiB