Package: cliProfiler Version: 1.12.0 Command: /home/biocbuild/bbs-3.20-bioc/R/bin/R CMD check --install=check:cliProfiler.install-out.txt --library=/home/biocbuild/bbs-3.20-bioc/R/site-library --timings cliProfiler_1.12.0.tar.gz StartedAt: 2025-03-31 20:49:42 -0400 (Mon, 31 Mar 2025) EndedAt: 2025-03-31 20:54:14 -0400 (Mon, 31 Mar 2025) EllapsedTime: 272.3 seconds RetCode: 0 Status: OK CheckDir: cliProfiler.Rcheck Warnings: 0