Package: cliProfiler Version: 1.12.0 Command: /home/biocbuild/bbs-3.20-bioc/R/bin/R CMD build --keep-empty-dirs --no-resave-data --md5 cliProfiler StartedAt: 2025-03-31 16:41:47 -0400 (Mon, 31 Mar 2025) EndedAt: 2025-03-31 16:42:56 -0400 (Mon, 31 Mar 2025) EllapsedTime: 69.1 seconds RetCode: 0 Status: OK PackageFile: cliProfiler_1.12.0.tar.gz PackageFileSize: 1.209 MiB