Package: cleanUpdTSeq Version: 1.44.0 Command: /Library/Frameworks/R.framework/Resources/bin/R CMD INSTALL cleanUpdTSeq StartedAt: 2025-03-31 15:36:59 -0400 (Mon, 31 Mar 2025) EndedAt: 2025-03-31 15:39:19 -0400 (Mon, 31 Mar 2025) EllapsedTime: 139.5 seconds RetCode: 0 Status: OK