Package: circRNAprofiler Version: 1.20.0 Command: chmod a+r circRNAprofiler -R && F:\biocbuild\bbs-3.20-bioc\R\bin\R.exe CMD build --keep-empty-dirs --no-resave-data circRNAprofiler StartedAt: 2025-03-31 18:00:08 -0400 (Mon, 31 Mar 2025) EndedAt: 2025-03-31 18:02:10 -0400 (Mon, 31 Mar 2025) EllapsedTime: 122.0 seconds RetCode: 0 Status: OK PackageFile: circRNAprofiler_1.20.0.tar.gz PackageFileSize: 3.491 MiB