Package: cicero Version: 1.24.0 Command: /home/biocbuild/R/R/bin/R CMD INSTALL cicero StartedAt: 2025-03-31 20:47:01 -0000 (Mon, 31 Mar 2025) EndedAt: 2025-03-31 20:48:15 -0000 (Mon, 31 Mar 2025) EllapsedTime: 74.7 seconds RetCode: 0 Status: OK