Package: chromVAR Version: 1.28.0 Command: F:\biocbuild\bbs-3.20-bioc\R\bin\R.exe CMD check --no-multiarch --install=check:chromVAR.install-out.txt --library=F:\biocbuild\bbs-3.20-bioc\R\library --no-vignettes --timings chromVAR_1.28.0.tar.gz StartedAt: 2025-04-01 00:01:09 -0400 (Tue, 01 Apr 2025) EndedAt: 2025-04-01 00:09:21 -0400 (Tue, 01 Apr 2025) EllapsedTime: 492.1 seconds RetCode: 0 Status: OK CheckDir: chromVAR.Rcheck Warnings: 0