Package: chromDraw Version: 2.36.0 Command: /home/biocbuild/R/R/bin/R CMD check --install=check:chromDraw.install-out.txt --library=/home/biocbuild/R/R/site-library --no-vignettes --timings chromDraw_2.36.0.tar.gz StartedAt: 2025-04-01 05:01:25 -0000 (Tue, 01 Apr 2025) EndedAt: 2025-04-01 05:02:46 -0000 (Tue, 01 Apr 2025) EllapsedTime: 81.1 seconds RetCode: 0 Status: WARNINGS CheckDir: chromDraw.Rcheck Warnings: 3