Package: chopsticks Version: 1.72.0 Command: /home/biocbuild/R/R/bin/R CMD check --install=check:chopsticks.install-out.txt --library=/home/biocbuild/R/R/site-library --no-vignettes --timings chopsticks_1.72.0.tar.gz StartedAt: 2025-04-01 05:01:00 -0000 (Tue, 01 Apr 2025) EndedAt: 2025-04-01 05:02:09 -0000 (Tue, 01 Apr 2025) EllapsedTime: 69.0 seconds RetCode: 0 Status: WARNINGS CheckDir: chopsticks.Rcheck Warnings: 3