Package: chopsticks Version: 1.72.0 Command: chmod a+r chopsticks -R && F:\biocbuild\bbs-3.20-bioc\R\bin\R.exe CMD build --keep-empty-dirs --no-resave-data chopsticks StartedAt: 2025-03-31 17:58:16 -0400 (Mon, 31 Mar 2025) EndedAt: 2025-03-31 17:59:10 -0400 (Mon, 31 Mar 2025) EllapsedTime: 54.2 seconds RetCode: 0 Status: OK PackageFile: chopsticks_1.72.0.tar.gz PackageFileSize: 6.556 MiB