Package: chopsticks Version: 1.72.0 Command: rm -rf chopsticks.buildbin-libdir && mkdir chopsticks.buildbin-libdir && F:\biocbuild\bbs-3.20-bioc\R\bin\R.exe CMD INSTALL --build --library=chopsticks.buildbin-libdir chopsticks_1.72.0.tar.gz StartedAt: 2025-04-01 07:53:54 -0400 (Tue, 01 Apr 2025) EndedAt: 2025-04-01 07:54:55 -0400 (Tue, 01 Apr 2025) EllapsedTime: 61.3 seconds RetCode: 0 Status: OK PackageFile: chopsticks_1.72.0.zip PackageFileSize: 5.304 MiB