Package: chopsticks Version: 1.72.0 Command: /Library/Frameworks/R.framework/Resources/bin/R CMD check --install=check:chopsticks.install-out.txt --library=/Library/Frameworks/R.framework/Resources/library --no-vignettes --timings chopsticks_1.72.0.tar.gz StartedAt: 2025-04-01 00:41:33 -0400 (Tue, 01 Apr 2025) EndedAt: 2025-04-01 00:43:27 -0400 (Tue, 01 Apr 2025) EllapsedTime: 114.1 seconds RetCode: 0 Status: WARNINGS CheckDir: chopsticks.Rcheck Warnings: 3