Package: chipseq Version: 1.56.0 Command: F:\biocbuild\bbs-3.20-bioc\R\bin\R.exe CMD INSTALL chipseq StartedAt: 2025-03-31 16:29:24 -0400 (Mon, 31 Mar 2025) EndedAt: 2025-03-31 16:30:11 -0400 (Mon, 31 Mar 2025) EllapsedTime: 47.0 seconds RetCode: 0 Status: OK