Package: chimeraviz Version: 1.32.0 Command: /home/biocbuild/R/R/bin/R CMD INSTALL chimeraviz StartedAt: 2025-03-31 20:47:08 -0000 (Mon, 31 Mar 2025) EndedAt: 2025-03-31 20:48:18 -0000 (Mon, 31 Mar 2025) EllapsedTime: 70.9 seconds RetCode: 0 Status: OK