Package: chihaya Version: 1.6.0 Command: /home/biocbuild/bbs-3.20-bioc/R/bin/R CMD INSTALL chihaya StartedAt: 2025-03-31 15:14:35 -0400 (Mon, 31 Mar 2025) EndedAt: 2025-03-31 15:15:07 -0400 (Mon, 31 Mar 2025) EllapsedTime: 31.9 seconds RetCode: 0 Status: OK