Package: chihaya Version: 1.6.0 Command: /Library/Frameworks/R.framework/Resources/bin/R CMD INSTALL chihaya StartedAt: 2025-03-31 15:17:16 -0400 (Mon, 31 Mar 2025) EndedAt: 2025-03-31 15:17:49 -0400 (Mon, 31 Mar 2025) EllapsedTime: 33.9 seconds RetCode: 0 Status: OK