Package: cghMCR Version: 1.64.0 Command: /home/biocbuild/R/R/bin/R CMD build --keep-empty-dirs --no-resave-data cghMCR StartedAt: 2025-03-31 22:19:13 -0000 (Mon, 31 Mar 2025) EndedAt: 2025-03-31 22:20:31 -0000 (Mon, 31 Mar 2025) EllapsedTime: 78.0 seconds RetCode: 0 Status: OK PackageFile: cghMCR_1.64.0.tar.gz PackageFileSize: 36.1 MiB