Package: cghMCR Version: 1.64.0 Command: rm -rf cghMCR.buildbin-libdir && mkdir cghMCR.buildbin-libdir && F:\biocbuild\bbs-3.20-bioc\R\bin\R.exe CMD INSTALL --build --library=cghMCR.buildbin-libdir cghMCR_1.64.0.tar.gz StartedAt: 2025-04-01 07:52:27 -0400 (Tue, 01 Apr 2025) EndedAt: 2025-04-01 07:53:54 -0400 (Tue, 01 Apr 2025) EllapsedTime: 86.4 seconds RetCode: 0 Status: OK PackageFile: cghMCR_1.64.0.zip PackageFileSize: 36.33 MiB