Package: cghMCR Version: 1.64.0 Command: rm -rf cghMCR.buildbin-libdir && mkdir cghMCR.buildbin-libdir && /Users/biocbuild/BBS/utils/build-universal.sh cghMCR_1.64.0.tar.gz /Library/Frameworks/R.framework/Resources/bin/R cghMCR.buildbin-libdir StartedAt: 2025-04-01 11:34:43 -0400 (Tue, 01 Apr 2025) EndedAt: 2025-04-01 11:35:54 -0400 (Tue, 01 Apr 2025) EllapsedTime: 71.6 seconds RetCode: 0 Status: OK PackageFile: cghMCR_1.64.0.tgz PackageFileSize: 37.02 MiB