Package: cfdnakit Version: 1.4.0 Command: /home/biocbuild/R/R/bin/R CMD INSTALL cfdnakit StartedAt: 2025-03-31 20:38:40 -0000 (Mon, 31 Mar 2025) EndedAt: 2025-03-31 20:38:57 -0000 (Mon, 31 Mar 2025) EllapsedTime: 17.1 seconds RetCode: 0 Status: OK