Package: cfTools Version: 1.6.0 Command: chmod a+r cfTools -R && F:\biocbuild\bbs-3.20-bioc\R\bin\R.exe --arch x64 CMD build --keep-empty-dirs --no-resave-data cfTools StartedAt: 2025-03-31 17:54:49 -0400 (Mon, 31 Mar 2025) EndedAt: 2025-03-31 18:00:11 -0400 (Mon, 31 Mar 2025) EllapsedTime: 321.1 seconds RetCode: 1 Status: ERROR PackageFile: None PackageFileSize: NA