Package: cfTools Version: 1.6.0 Command: /Library/Frameworks/R.framework/Resources/bin/R CMD INSTALL cfTools StartedAt: 2025-03-31 15:29:26 -0400 (Mon, 31 Mar 2025) EndedAt: 2025-03-31 15:30:53 -0400 (Mon, 31 Mar 2025) EllapsedTime: 87.7 seconds RetCode: 0 Status: OK