Package: cfTools Version: 1.6.0 Command: /Library/Frameworks/R.framework/Resources/bin/R CMD INSTALL cfTools StartedAt: 2025-03-31 15:46:24 -0400 (Mon, 31 Mar 2025) EndedAt: 2025-03-31 15:47:07 -0400 (Mon, 31 Mar 2025) EllapsedTime: 42.6 seconds RetCode: 0 Status: OK