Package: censcyt Version: 1.14.0 Command: /home/biocbuild/bbs-3.20-bioc/R/bin/R CMD check --install=check:censcyt.install-out.txt --library=/home/biocbuild/bbs-3.20-bioc/R/site-library --timings censcyt_1.14.0.tar.gz StartedAt: 2025-03-31 20:37:44 -0400 (Mon, 31 Mar 2025) EndedAt: 2025-03-31 20:42:43 -0400 (Mon, 31 Mar 2025) EllapsedTime: 298.3 seconds RetCode: 0 Status: OK CheckDir: censcyt.Rcheck Warnings: 0