Package: censcyt Version: 1.14.0 Command: /Library/Frameworks/R.framework/Resources/bin/R CMD check --install=check:censcyt.install-out.txt --library=/Library/Frameworks/R.framework/Resources/library --no-vignettes --timings censcyt_1.14.0.tar.gz StartedAt: 2025-04-01 00:32:08 -0400 (Tue, 01 Apr 2025) EndedAt: 2025-04-01 00:41:32 -0400 (Tue, 01 Apr 2025) EllapsedTime: 564.8 seconds RetCode: 0 Status: OK CheckDir: censcyt.Rcheck Warnings: 0