Package: cellxgenedp Version: 1.10.0 Command: /home/biocbuild/R/R/bin/R CMD INSTALL cellxgenedp StartedAt: 2025-03-31 20:43:21 -0000 (Mon, 31 Mar 2025) EndedAt: 2025-03-31 20:43:26 -0000 (Mon, 31 Mar 2025) EllapsedTime: 5.0 seconds RetCode: 0 Status: OK