Package: cellxgenedp Version: 1.10.0 Command: /home/biocbuild/R/R/bin/R CMD build --keep-empty-dirs --no-resave-data cellxgenedp StartedAt: 2025-03-31 22:13:41 -0000 (Mon, 31 Mar 2025) EndedAt: 2025-03-31 22:24:33 -0000 (Mon, 31 Mar 2025) EllapsedTime: 651.2 seconds RetCode: 0 Status: OK PackageFile: cellxgenedp_1.10.0.tar.gz PackageFileSize: 521.3 KiB