Package: cellscape Version: 1.30.0 Command: /home/biocbuild/R/R/bin/R CMD INSTALL cellscape StartedAt: 2025-03-31 20:44:57 -0000 (Mon, 31 Mar 2025) EndedAt: 2025-03-31 20:45:02 -0000 (Mon, 31 Mar 2025) EllapsedTime: 4.8 seconds RetCode: 0 Status: OK