Package: cellscape Version: 1.30.0 Command: /Library/Frameworks/R.framework/Resources/bin/R CMD build --keep-empty-dirs --no-resave-data cellscape StartedAt: 2025-03-31 20:16:59 -0400 (Mon, 31 Mar 2025) EndedAt: 2025-03-31 20:17:10 -0400 (Mon, 31 Mar 2025) EllapsedTime: 11.3 seconds RetCode: 0 Status: OK PackageFile: cellscape_1.30.0.tar.gz PackageFileSize: 897.2 KiB