Package: cellmigRation Version: 1.14.0 Command: /home/biocbuild/bbs-3.20-bioc/R/bin/R CMD INSTALL cellmigRation StartedAt: 2025-03-31 15:51:29 -0400 (Mon, 31 Mar 2025) EndedAt: 2025-03-31 15:51:42 -0400 (Mon, 31 Mar 2025) EllapsedTime: 13.7 seconds RetCode: 0 Status: OK