Package: cellity Version: 1.34.0 Command: /home/biocbuild/R/R/bin/R CMD check --install=check:cellity.install-out.txt --library=/home/biocbuild/R/R/site-library --no-vignettes --timings cellity_1.34.0.tar.gz StartedAt: 2025-04-01 04:53:35 -0000 (Tue, 01 Apr 2025) EndedAt: 2025-04-01 04:56:40 -0000 (Tue, 01 Apr 2025) EllapsedTime: 185.2 seconds RetCode: 0 Status: OK CheckDir: cellity.Rcheck Warnings: 0