Package: cellity Version: 1.34.0 Command: /home/biocbuild/bbs-3.20-bioc/R/bin/R CMD check --install=check:cellity.install-out.txt --library=/home/biocbuild/bbs-3.20-bioc/R/site-library --timings cellity_1.34.0.tar.gz StartedAt: 2025-03-31 20:35:32 -0400 (Mon, 31 Mar 2025) EndedAt: 2025-03-31 20:38:46 -0400 (Mon, 31 Mar 2025) EllapsedTime: 194.2 seconds RetCode: 0 Status: OK CheckDir: cellity.Rcheck Warnings: 0