Package: cellbaseR Version: 1.30.0 Command: /home/biocbuild/R/R/bin/R CMD build --keep-empty-dirs --no-resave-data cellbaseR StartedAt: 2025-03-31 22:11:28 -0000 (Mon, 31 Mar 2025) EndedAt: 2025-03-31 22:12:04 -0000 (Mon, 31 Mar 2025) EllapsedTime: 36.0 seconds RetCode: 1 Status: ERROR PackageFile: None PackageFileSize: NA