Package: cellbaseR Version: 1.30.0 Command: chmod a+r cellbaseR -R && F:\biocbuild\bbs-3.20-bioc\R\bin\R.exe CMD build --keep-empty-dirs --no-resave-data cellbaseR StartedAt: 2025-03-31 17:50:40 -0400 (Mon, 31 Mar 2025) EndedAt: 2025-03-31 17:52:03 -0400 (Mon, 31 Mar 2025) EllapsedTime: 83.4 seconds RetCode: 1 Status: ERROR PackageFile: None PackageFileSize: NA