Package: celda Version: 1.22.1 Command: F:\biocbuild\bbs-3.20-bioc\R\bin\R.exe CMD check --no-multiarch --install=check:celda.install-out.txt --library=F:\biocbuild\bbs-3.20-bioc\R\library --no-vignettes --timings celda_1.22.1.tar.gz StartedAt: 2025-03-31 23:49:13 -0400 (Mon, 31 Mar 2025) EndedAt: 2025-04-01 00:00:55 -0400 (Tue, 01 Apr 2025) EllapsedTime: 701.6 seconds RetCode: 0 Status: OK CheckDir: celda.Rcheck Warnings: 0