Package: celda Version: 1.22.1 Command: /home/biocbuild/bbs-3.20-bioc/R/bin/R CMD build --keep-empty-dirs --no-resave-data --md5 celda StartedAt: 2025-03-31 16:34:04 -0400 (Mon, 31 Mar 2025) EndedAt: 2025-03-31 16:39:02 -0400 (Mon, 31 Mar 2025) EllapsedTime: 298.3 seconds RetCode: 0 Status: OK PackageFile: celda_1.22.1.tar.gz PackageFileSize: 2.515 MiB