Package: celaref Version: 1.24.0 Command: /home/biocbuild/R/R/bin/R CMD build --keep-empty-dirs --no-resave-data celaref StartedAt: 2025-03-31 22:10:21 -0000 (Mon, 31 Mar 2025) EndedAt: 2025-03-31 22:35:40 -0000 (Mon, 31 Mar 2025) EllapsedTime: 1518.8 seconds RetCode: 0 Status: OK PackageFile: celaref_1.24.0.tar.gz PackageFileSize: 2.114 MiB