Package: ceRNAnetsim Version: 1.18.0 Command: /home/biocbuild/R/R/bin/R CMD check --install=check:ceRNAnetsim.install-out.txt --library=/home/biocbuild/R/R/site-library --no-vignettes --timings ceRNAnetsim_1.18.0.tar.gz StartedAt: 2025-04-01 04:56:17 -0000 (Tue, 01 Apr 2025) EndedAt: 2025-04-01 04:58:35 -0000 (Tue, 01 Apr 2025) EllapsedTime: 138.1 seconds RetCode: 0 Status: OK CheckDir: ceRNAnetsim.Rcheck Warnings: 0