Package: ceRNAnetsim Version: 1.18.0 Command: F:\biocbuild\bbs-3.20-bioc\R\bin\R.exe CMD INSTALL ceRNAnetsim StartedAt: 2025-03-31 16:24:37 -0400 (Mon, 31 Mar 2025) EndedAt: 2025-03-31 16:25:04 -0400 (Mon, 31 Mar 2025) EllapsedTime: 27.6 seconds RetCode: 0 Status: OK