Package: ceRNAnetsim Version: 1.18.0 Command: chmod a+r ceRNAnetsim -R && F:\biocbuild\bbs-3.20-bioc\R\bin\R.exe CMD build --keep-empty-dirs --no-resave-data ceRNAnetsim StartedAt: 2025-03-31 17:53:53 -0400 (Mon, 31 Mar 2025) EndedAt: 2025-03-31 18:01:19 -0400 (Mon, 31 Mar 2025) EllapsedTime: 445.8 seconds RetCode: 0 Status: OK PackageFile: ceRNAnetsim_1.18.0.tar.gz PackageFileSize: 2.832 MiB