Package: ceRNAnetsim Version: 1.18.0 Command: /Library/Frameworks/R.framework/Resources/bin/R CMD check --install=check:ceRNAnetsim.install-out.txt --library=/Library/Frameworks/R.framework/Resources/library --no-vignettes --timings ceRNAnetsim_1.18.0.tar.gz StartedAt: 2025-04-01 13:39:59 -0400 (Tue, 01 Apr 2025) EndedAt: 2025-04-01 13:42:15 -0400 (Tue, 01 Apr 2025) EllapsedTime: 136.5 seconds RetCode: 0 Status: OK CheckDir: ceRNAnetsim.Rcheck Warnings: 0