Package: ceRNAnetsim Version: 1.18.0 Command: /Library/Frameworks/R.framework/Resources/bin/R CMD build --keep-empty-dirs --no-resave-data ceRNAnetsim StartedAt: 2025-03-31 20:19:31 -0400 (Mon, 31 Mar 2025) EndedAt: 2025-03-31 20:24:58 -0400 (Mon, 31 Mar 2025) EllapsedTime: 327.6 seconds RetCode: 0 Status: OK PackageFile: ceRNAnetsim_1.18.0.tar.gz PackageFileSize: 3.062 MiB